BEGIN:VCALENDAR
VERSION:2.0
CALSCALE:GREGORIAN
PRODID:adamgibbons/ics
METHOD:PUBLISH
X-PUBLISHED-TTL:PT1H
BEGIN:VEVENT
UID:13977@bcn.convoca.la
SUMMARY:El Sotrac fa paradeta de llibres de Sant Jordi   Aquest Sant Jordi\
	, com cada any\, El Sotrac\, la biblioteca crítica\, surt al carrer i tind
	rà paradeta de llibres davant de La Cinètika!   Ens trobareu el dijous 23 
	d'abril entre les 15h i les 20.30h com sempre. Hi haurà una gran selecció 
	de literatura crítica d'assaig\, infantil\, narrativa i també tindrem còpi
	es del llibre editat recentment fruit del concurs de relats Narra Karcelon
	a.   Veniu a donar suport a l'autogestió del projecte\, a xerrar i a reivi
	ndicar el Sant Jordi popular!
DTSTAMP:20260422T181133Z
DTSTART:20260423T130000Z
DTEND:20260423T193000Z
URL:https://bcn.convoca.la/event/el-sotrac-fa-paradeta-de-llibres-de-sant-j
	ordi-aquest-sant-jordi-com-cada-any-el-sotrac-la-biblioteca-critica-surt-a
	l-carrer-i-tindra-paradeta-de-llibres-davant-de-la-cinetika-ens-trobareu-e
	l-dijous-23-dabril-entre-les-15h-i-les-2030h-com-sempre-hi-haura-una-gran-
	seleccio-de-literatura-critica-dassaig-infantil-narrativa-i-tambe-tindrem-
	copies-del-llibre-editat-recentment-fruit-del-concurs-de-relats-narra-karc
	elona-veniu-a-donar-suport-a-lautogestio-del-projecte-a-xerrar-i-a-reivind
	icar-el-sant-jordi-popular
GEO:41.4303043;2.188017
LOCATION:La Cinètika - 32\, Rambla de Fabra i Puig\, Sant Andreu\, Barcelon
	a\, 08030
STATUS:CONFIRMED
CATEGORIES:anarquisme,presentacióLlibre,autogestió,llibre,SantJordi,fira de
	 llibres,SantAndreuDelPalomar
BEGIN:VALARM
ACTION:DISPLAY
DESCRIPTION:El Sotrac fa paradeta de llibres de Sant Jordi   Aquest Sant Jo
	rdi, com cada any, El Sotrac, la biblioteca crítica, surt al carrer i tind
	rà paradeta de llibres davant de La Cinètika!   Ens trobareu el dijous 23 
	d'abril entre les 15h i les 20.30h com sempre. Hi haurà una gran selecció 
	de literatura crítica d'assaig, infantil, narrativa i també tindrem còpies
	 del llibre editat recentment fruit del concurs de relats Narra Karcelona.
	   Veniu a donar suport a l'autogestió del projecte, a xerrar i a reivindi
	car el Sant Jordi popular!
TRIGGER:-PT1H
END:VALARM
END:VEVENT
END:VCALENDAR
