BEGIN:VCALENDAR
VERSION:2.0
CALSCALE:GREGORIAN
PRODID:adamgibbons/ics
METHOD:PUBLISH
X-PUBLISHED-TTL:PT1H
BEGIN:VEVENT
UID:14000@bcn.convoca.la
SUMMARY:Festa de la primavera d'Arcàdia
DTSTAMP:20260424T225837Z
DTSTART:20260425T143000Z
DESCRIPTION:🌸🎉 Festa de Primavera Arcàdia  - Escola Popular de Sants 🎉🌸\n\n
	Tens ganes de cantar\, riure i guanyar premis ?  Doncs vine al nostre BING
	O\nMUSICAL amb hits per a xiquis i adultes 🎶\n\n📆  dissabte 25 d’abril\n⏰ 
	 a partir de les 16:30\n📍  Can Vies\n\n✨ Vine\, juga\, canta… i a veure si
	 et cantes un BINGO ! 😏🎤\n\n💛  Festa per a recaptar fons pel Casal Popular
	 de Sants
URL:https://bcn.convoca.la/event/festa-de-la-primavera-darcadia
GEO:41.37411065;2.1345824467802545
LOCATION:CSA Can Vies - 42\, Carrer dels Jocs Florals\, Sants\, Barcelona\,
	 08014
STATUS:CONFIRMED
CATEGORIES:Sants,Arcàdia,infants,pedagogies llibertàries,pedagogia
X-ALT-DESC;FMTTYPE=text/html:<p>🌸🎉 Festa de Primavera Arcàdia&nbsp; - Escol
	a Popular de Sants 🎉🌸<br><br>Tens ganes de cantar, riure i guanyar premis 
	?&nbsp; Doncs vine al nostre BINGO MUSICAL amb hits per a xiquis i adultes
	 🎶<br><br>📆&nbsp; dissabte 25 d’abril<br>⏰&nbsp; a partir de les 16:30 <br
	>📍&nbsp; Can Vies<br><br>✨ Vine, juga, canta… i a veure si et cantes un BI
	NGO ! 😏🎤<br><br>💛&nbsp; Festa per a <strong>recaptar fons pel Casal Popula
	r de Sants</strong></p>
BEGIN:VALARM
ACTION:DISPLAY
DESCRIPTION:Festa de la primavera d'Arcàdia
TRIGGER:-PT1H
END:VALARM
END:VEVENT
END:VCALENDAR
