BEGIN:VCALENDAR
VERSION:2.0
CALSCALE:GREGORIAN
PRODID:adamgibbons/ics
METHOD:PUBLISH
X-PUBLISHED-TTL:PT1H
BEGIN:VEVENT
UID:13994@bcn.convoca.la
SUMMARY:Formació en línia sobre la regularització extraordinària des d'una 
	perspectiva feminista i antiracista
DTSTAMP:20260424T161525Z
DTSTART:20260429T163000Z
DTEND:20260429T180000Z
DESCRIPTION:Com podem donar suport a la regularització extraordinària? Des 
	de FAPC us\nconvidem a la formació amb MigrESS i Illay Legal. Una anàlisi 
	feminista i\nantiracista del procés de regularització i de les seves oport
	unitats i\nlimitacions.\n\nObert a persones interessades dels moviments po
	pulars\nCal inscriure's prèviament al formulari. Totes les inscrites rebre
	u l'enllaç\nabans de la formació:\n\nhttps://nextcloud.pangea.org/apps/for
	ms/s/F5dQbbKRTEpft54fEWrH4Fsj\n[https://nextcloud.pangea.org/apps/forms/s/
	F5dQbbKRTEpft54fEWrH4Fsj]\n\nDavant el feixisme i el racisme\, formem-nos 
	i organitzem-nos des del feminisme\nanticapitalista! ✊🏾
URL:https://bcn.convoca.la/event/formacio-en-linia-sobre-la-regularitzacio-
	extraordinaria-des-duna-perspectiva-feminista-i-antiracista
LOCATION:online - https://nextcloud.pangea.org/apps/forms/s/F5dQbbKRTEpft54
	fEWrH4Fsj
STATUS:CONFIRMED
CATEGORIES:feminisme,transfeminisme,anticapitalisme,regularització,Regulari
	zaciónYa,antiracisme,FemisAnticapis,FemisAnticapisPPCC
X-ALT-DESC;FMTTYPE=text/html:<p>Com podem donar suport a la regularització 
	extraordinària? Des de FAPC us convidem a la formació amb MigrESS i Illay 
	Legal. Una anàlisi feminista i antiracista del procés de regularització i 
	de les seves oportunitats i limitacions.</p><p>Obert a persones interessad
	es dels <strong>moviments populars</strong><br>Cal inscriure's prèviament 
	al formulari. Totes les inscrites rebreu l'enllaç abans de la formació:</p
	><p><a target="_blank" href="https://nextcloud.pangea.org/apps/forms/s/F5d
	QbbKRTEpft54fEWrH4Fsj">https://nextcloud.pangea.org/apps/forms/s/F5dQbbKRT
	Epft54fEWrH4Fsj</a></p><p>Davant el feixisme i el racisme, formem-nos i or
	ganitzem-nos des del feminisme anticapitalista! ✊🏾</p>
BEGIN:VALARM
ACTION:DISPLAY
DESCRIPTION:Formació en línia sobre la regularització extraordinària des d'
	una perspectiva feminista i antiracista
TRIGGER:-PT1H
END:VALARM
END:VEVENT
END:VCALENDAR
