BEGIN:VCALENDAR
VERSION:2.0
CALSCALE:GREGORIAN
PRODID:adamgibbons/ics
METHOD:PUBLISH
X-PUBLISHED-TTL:PT1H
BEGIN:VEVENT
UID:13978@bcn.convoca.la
SUMMARY:Grup de Teatre Ale Fènix - No mixte trans/nb/intersex
DTSTAMP:20260422T212051Z
DTSTART:20260506T160000Z
DTEND:20260506T183000Z
DESCRIPTION:CAT\n\nArriben a Urdimbre i la Companyia Llavors dos tallers pu
	ntuals de teatre del\nGrup de Teatre Ale Fènix els dies 14 i 28 de gener a
	l Casal de barri\nTransformadors de Barcelona\, de 18:00 a 20:30. Voleu fe
	r un tastet de teatre i\nactivitats lúdiques i interpretatives? Us ve de g
	ust apropar-vos al món de la\ninterpretació i veure què s'hi cou? 🎭\n\nPod
	eu apuntar-vos a només un o a tots dos a través del codi QR que hi ha al\n
	cartell O bé seguint el següent link:\n\nhttps://forms.gle/f6ZsApr9YQ1cWmD
	q5 [https://forms.gle/f6ZsApr9YQ1cWmDq5]\n\nPer a més informació contacta 
	amb Urdimbre o la Companyia Llavors!🩵🤍🩷\n\nAtentis\, perquè a dins us pode
	u apuntar al grup de teatre estable dels dimarts a\nparti de febrer...🎭👀\n
	\nCAST\n\nLlegan a Urdimbre y la Companyia Llavors dos talleres puntuales 
	de teatro del\nGrup de Teatre Ale Fènix los días 14 y 28 de enero en el Ca
	sal de barri\nTransformadors de Barcelona\, de 18:00 a 20:30. ¿Quieres pro
	bar el teatro y las\nactividades lúdicas e interpretativas? ¿Te apetece ac
	ercarte al mundo de la\ninterpretación y ver qué se cuece? 🎭\n\nPuedes apu
	ntarte a sólo uno o a ambos a través del código QR que hay en el\ncartel O
	 bien siguiendo el siguiente link:\n\nhttps://forms.gle/f6ZsApr9YQ1cWmDq5 
	[https://forms.gle/f6ZsApr9YQ1cWmDq5]\n\nPara más información contacta con
	 Urdimbre o la Companyia Llavors!🩵🤍🩷\n\nAtentes\, porque dentro del formul
	ario hay info para el nuevo grupo de teatro\nestable los martes a partir d
	e febrero...🎭👀
URL:https://bcn.convoca.la/event/grup-de-teatre-ale-fenix-no-mixte-transnbi
	ntersex-9
LOCATION:Casal de barri Transformadors - Ausias Marcha\, 60\, Fort Pienc\, 
	Barcelona
STATUS:CONFIRMED
CATEGORIES:Intersex,Trans*,nb,teatre
X-ALT-DESC;FMTTYPE=text/html:<p>CAT</p><p>Arriben a Urdimbre i la Companyia
	 Llavors dos <strong>tallers puntuals de teatre</strong> del <strong>Grup 
	de Teatre Ale Fènix</strong> els dies <strong>14 i 28 de gener</strong> al
	 Casal de barri Transformadors de Barcelona, de <strong>18:00 a 20:30</str
	ong>. Voleu fer un tastet de teatre i activitats lúdiques i interpretative
	s? Us ve de gust apropar-vos al món de la interpretació i veure què s'hi c
	ou? 🎭</p><p>Podeu apuntar-vos a només un o a tots dos a través del <strong
	>codi QR</strong> que hi ha al cartell O bé seguint el següent link:</p><p
	><a target="_blank" href="https://forms.gle/f6ZsApr9YQ1cWmDq5">https://for
	ms.gle/f6ZsApr9YQ1cWmDq5</a></p><p>Per a més informació contacta amb Urdim
	bre o la Companyia Llavors!🩵🤍🩷</p><p>Atentis, perquè a dins us podeu apunt
	ar al <strong>grup de teatre estable</strong> dels dimarts a parti de febr
	er...🎭👀</p><p>CAST</p><p>Llegan a Urdimbre y la Companyia Llavors <strong>
	dos talleres puntuales de teatro</strong> del <strong>Grup de Teatre Ale F
	ènix</strong> los días <strong>14 y 28 de enero</strong> en el Casal de ba
	rri Transformadors de Barcelona, ​​de <strong>18:00 a 20:30</strong>. ¿Qui
	eres probar el teatro y las actividades lúdicas e interpretativas? ¿Te ape
	tece acercarte al mundo de la interpretación y ver qué se cuece? 🎭</p><p>P
	uedes apuntarte a sólo uno o a ambos a través del <strong>código QR</stron
	g> que hay en el cartel O bien siguiendo el siguiente link:</p><p><a targe
	t="_blank" href="https://forms.gle/f6ZsApr9YQ1cWmDq5">https://forms.gle/f6
	ZsApr9YQ1cWmDq5</a></p><p>Para más información contacta con Urdimbre o la 
	Companyia Llavors!🩵🤍🩷</p><p>Atentes, porque dentro del formulario hay info
	 para el <strong>nuevo grupo de teatro estable</strong> los martes a parti
	r de febrero...🎭👀</p>
BEGIN:VALARM
ACTION:DISPLAY
DESCRIPTION:Grup de Teatre Ale Fènix - No mixte trans/nb/intersex
TRIGGER:-PT1H
END:VALARM
END:VEVENT
END:VCALENDAR
