BEGIN:VCALENDAR
VERSION:2.0
CALSCALE:GREGORIAN
PRODID:adamgibbons/ics
METHOD:PUBLISH
X-PUBLISHED-TTL:PT1H
BEGIN:VEVENT
UID:13990@bcn.convoca.la
SUMMARY:La Bicinètika/Taller de bicis
DTSTAMP:20260424T001643Z
DTSTART:20260430T160000Z
DTEND:20260430T190000Z
DESCRIPTION:Cada dijous de 18h a 21h\, trobareu obert el taller de bicis de
	 La Cinètika\,\nentrant a mà dreta.\nAprèn a reparar la teva bici amb les 
	teves mans\, sense un euro. Hi haurà gent\namb coneixements que et poden a
	judar i ensenyar com arreglar i mantenir\nbicicletes.\nReutilitza\, recicl
	a\, redueix.\n\nTotis ens encarreguem que l'espai quedi net.\nRecordatori 
	que La Cinètika és un espai lliure de drogues\, d’alcohol i de fum. I\ntam
	poc es serveix menjar d’origen animal.\nNo fumis dins de l'espai\, ni begu
	is alcohol\, ni prenguis altres drogues ni\nmengis aliments d'origen anima
	l.
URL:https://bcn.convoca.la/event/la-bicinetikataller-de-bicis-16
GEO:41.4303043;2.188017
LOCATION:La Cinètika - 32\, Rambla de Fabra i Puig\, Sant Andreu\, Barcelon
	a\, 08030
STATUS:CONFIRMED
CATEGORIES:Bicicleta,LaCinètika,SantAndreu,SantAndreuDelPalomar,autogestió,
	autoreparació,bici,reparació,taller,tallers autogestionats de bicis
X-ALT-DESC;FMTTYPE=text/html:<p>Cada dijous de 18h a 21h, trobareu obert el
	 taller de bicis de La Cinètika, entrant a mà dreta.<br>Aprèn a reparar la
	 teva bici amb les teves mans, sense un euro. Hi haurà gent amb coneixemen
	ts que et poden ajudar i ensenyar com arreglar i mantenir bicicletes.<br>R
	eutilitza, recicla, redueix.<br><br>Totis ens encarreguem que l'espai qued
	i net.<br>Recordatori que La Cinètika és un espai lliure de drogues, d’alc
	ohol i de fum. I tampoc es serveix menjar d’origen animal. <br>No fumis di
	ns de l'espai, ni beguis alcohol, ni prenguis altres drogues ni mengis ali
	ments d'origen animal.</p>
BEGIN:VALARM
ACTION:DISPLAY
DESCRIPTION:La Bicinètika/Taller de bicis
TRIGGER:-PT1H
END:VALARM
END:VEVENT
END:VCALENDAR
