BEGIN:VCALENDAR
VERSION:2.0
CALSCALE:GREGORIAN
PRODID:adamgibbons/ics
METHOD:PUBLISH
X-PUBLISHED-TTL:PT1H
BEGIN:VEVENT
UID:13995@bcn.convoca.la
SUMMARY:La Gozadera
DTSTAMP:20260424T191330Z
DTSTART:20260502T193000Z
DTEND:20260503T010000Z
DESCRIPTION:🔥LA GOZADERA🔥 SÁBADO 2 de MAYO en @paral·lel62bcn\n\n🪩Primera F
	IESTA 100% cuir de ritmos latinos para bailar en pareja en\nBarcelona🏳️‍🌈\n\n
	🕺🔥LA GOZADERA🔥 nace del proyecto formativo @salsabachatacuirbcn activo des
	de\nel año 2023 en el barrio del Poble Sec\, a cargo de KALI @cafubri arti
	sta cuir\nmigrante\, coreógrafa y bailarina\, establecida en Barcelona des
	de el año 2017.\n\n🍒El evento propone una pista de baile inclusiva donde l
	a salsa\, la timba\, la\nbachata\, el merengue y la cumbia se viven fuera 
	de los roles de género\ntradicionales\, celebrando la diversidad y la libe
	rtad en el baile.\n\n🪩PROGRAMA:\n\n⏰21:30 h Apertura de puertas\n\n🕺22:00 
	h Clase abierta de SALSA/TIMBA + BACHATA a cargo de KALI @cafubri\n\n🥭23:0
	0 h Dj set de FARRIANA aka FKS @fk.fks.fk [http://fk.fks.fk] & M4N60\n@man
	gomadurito\n\n🐆01:00 h Dj set de LA NIÑA MAI @laninamai\n\n#fiesta #queer 
	#salsa #timba #bachata
URL:https://bcn.convoca.la/event/la-gozadera
GEO:41.3751714;2.1695843
LOCATION:Sala paral-lel 62 - Avinguda paral-lel 62
STATUS:CONFIRMED
CATEGORIES:PobleSec,queer,festa,salsa cuir,salsa,bachata
X-ALT-DESC;FMTTYPE=text/html:<p>🔥LA GOZADERA🔥 SÁBADO 2 de MAYO en @paral·le
	l62bcn</p><p>🪩Primera FIESTA 100% cuir de ritmos latinos para bailar en pa
	reja en Barcelona🏳️‍🌈</p><p>🕺🔥LA GOZADERA🔥 nace del proyecto formativo @salsa
	bachatacuirbcn activo desde el año 2023 en el barrio del Poble Sec, a carg
	o de KALI @cafubri artista cuir migrante, coreógrafa y bailarina, establec
	ida en Barcelona desde el año 2017.</p><p>🍒El evento propone una pista de 
	baile inclusiva donde la salsa, la timba, la bachata, el merengue y la cum
	bia se viven fuera de los roles de género tradicionales, celebrando la div
	ersidad y la libertad en el baile.</p><p>🪩PROGRAMA:</p><p>⏰21:30 h Apertur
	a de puertas</p><p>🕺22:00 h Clase abierta de SALSA/TIMBA + BACHATA a cargo
	 de KALI @cafubri</p><p>🥭23:00 h Dj set de FARRIANA aka FKS @<a href="http
	://fk.fks.fk" target="_blank">fk.fks.fk</a> &amp; M4N60 @mangomadurito</p>
	<p>🐆01:00 h Dj set de LA NIÑA MAI @laninamai</p><p>#fiesta #queer #salsa #
	timba #bachata</p>
BEGIN:VALARM
ACTION:DISPLAY
DESCRIPTION:La Gozadera
TRIGGER:-PT1H
END:VALARM
END:VEVENT
END:VCALENDAR
