BEGIN:VCALENDAR
VERSION:2.0
CALSCALE:GREGORIAN
PRODID:adamgibbons/ics
METHOD:PUBLISH
X-PUBLISHED-TTL:PT1H
BEGIN:VEVENT
UID:13996@bcn.convoca.la
SUMMARY:LVZ SILENCIOSA + BABY JANE + PERLA NEGRA
DTSTAMP:20260424T194503Z
DTSTART:20260425T193000Z
URL:https://bcn.convoca.la/event/lvz-silenciosa-baby-jane-perla-negra
GEO:41.4113735;2.1532115
LOCATION:Kasa de la muntanya - Av. del Santuari de Sant Josep de la muntany
	a
STATUS:CONFIRMED
CATEGORIES:punk,Gràcia,LaSalut,noise,concert
BEGIN:VALARM
ACTION:DISPLAY
DESCRIPTION:LVZ SILENCIOSA + BABY JANE + PERLA NEGRA
TRIGGER:-PT1H
END:VALARM
END:VEVENT
END:VCALENDAR
