BEGIN:VCALENDAR
VERSION:2.0
CALSCALE:GREGORIAN
PRODID:adamgibbons/ics
METHOD:PUBLISH
X-PUBLISHED-TTL:PT1H
BEGIN:VEVENT
UID:13933@bcn.convoca.la
SUMMARY:MERCADILLO GRATIS! Per a totes les edats\, estils i gèneres :)
DTSTAMP:20260419T174236Z
DTSTART:20260517T100000Z
DTEND:20260517T120000Z
DESCRIPTION:MERCADILLO DE ROBA GRATIS!*\n\n\nCADA 3R DIUMENGE DE MES AL CAN
	 VIES: C/JOCS FLORALS 42\, SANTS.\n\n> *La roba és gratis\, sí. El que sí 
	demanem és que t'apropis a la Botiga amb\n> curiositat\, atenció\, i dediq
	uis una estona a endreçar-la i deixar-la una mica\n> millor de com te l'ha
	s trobada :) És un espai autogestionat\, sense\n> dependentxs\, o sigui qu
	e perquè funcioni\, necessitem cuidar-la i mantenir-la\n> entre totis <3\n
	\nPer a totes les edats\, estils i gèneres 😸🌞👵🏽👨🏼‍🦰👩🏻‍🦱👧🏼👶🏾🦄🕺🦜🦩\n\nUna iniciativa l
	ligada al Projecte Vestidures.\n\n----------------------------------------
	--------------------------\n\n\nMANUAL D'ÚS I GAUDI DE LA BOTIGA GRATIS\n\
	n\n★ SI PORTES ROBA\n\n *  Que estigui neta\, en perfecte estat i preferib
	lement que sigui de temporada.\n   No portis roba bruta\, trencada\, tacad
	a o feta malbé!! Deixa només aquella\n   roba que t’agradaria trobar.\n\n 
	*  Posa tu mateixi cada cosa al seu lloc. Trobaràs senyalitzada cada secci
	ó amb\n   cartells de color groc fosforito. Si tens dubtes\, aplica la int
	uïció i\n   deixa-ho com et sembli més lògic.\n\n *  Joguines: No s’accept
	en joguines en mal estat\, brutes o trencades. Si us\n   plau\, no portis 
	qualsevol cosa que trobis al carrer. La botiga gratis no és\n   un abocado
	r ni una deixalleria 💔 Porta només jocs o joguines si estan en\n   estat ò
	ptim i veus que hi ha prou espai per a deixar-les bé. (Si portes un\n   jo
	c que conté unes quantes peces\, ha d'estar en la seva caixa corresponent 
	i\n   ben tancada).\n   \n   \n\n★ SI AGAFES ROBA\n\n *  Pots endur-te la 
	roba que vulguis\, per a tu o per a regalar. Prova\,\n   experimenta\, div
	erteix-te! Això és un espai descapitalitzat\, aprofita\n   l’oportunitat ^
	_^\n\n *  No cal que deixis roba per endurt-te’n: Deixar roba és una invit
	ació\, no una\n   condició.\n\n *  Abans de marxar\, dedica una estona a e
	ndreçar i deixar més bonic l’espai.\n   Deixem l'espai com ens agradaria t
	robar-lo!!! 💟\n\n
URL:https://bcn.convoca.la/event/mercadillo-gratis-per-a-totes-les-edats-es
	tils-i-generes-7
GEO:41.37411065;2.1345824467802545
LOCATION:CSA Can Vies - 42\, Carrer dels Jocs Florals\, Sants\, Barcelona\,
	 08014
STATUS:CONFIRMED
CATEGORIES:CanVies,Mercadillo,Sants,autogestió,botiga gratis,don't believe 
	the hype,la moda soy yo,vestidures
X-ALT-DESC;FMTTYPE=text/html:<h2>MERCADILLO de roba GRATIS!* </h2><h2>Cada 
	3r diumenge de mes al Can Vies: c/Jocs Florals 42, Sants.</h2><blockquote>
	<p>*La roba és gratis, sí. El que sí demanem és que t'apropis a la Botiga 
	amb curiositat, atenció, i dediquis una estona a endreçar-la i deixar-la u
	na mica millor de com te l'has trobada :) És un espai autogestionat, sense
	 dependentxs, o sigui que perquè funcioni, necessitem cuidar-la i mantenir
	-la entre totis &lt;3</p></blockquote><p>Per a totes les edats, estils i g
	èneres 😸🌞👵🏽👨🏼‍🦰👩🏻‍🦱👧🏼👶🏾🦄🕺🦜🦩</p><p>Una iniciativa lligada al Projecte Vestidures.</p
	><p>------------------------------------------------------------------</p>
	<h3><strong>MANUAL D'ÚS I GAUDI DE LA BOTIGA GRATIS<br></strong></h3><p>★ 
	<u>SI PORTES ROBA</u></p><ul><li><p>&nbsp;Que estigui neta, en perfecte es
	tat i preferiblement que sigui de temporada. No portis roba bruta, trencad
	a, tacada o feta malbé!! Deixa només aquella roba que t’agradaria trobar.<
	/p></li><li><p>&nbsp;Posa tu mateixi cada cosa al seu lloc. Trobaràs senya
	litzada cada secció amb cartells de color groc fosforito. Si tens dubtes, 
	aplica la intuïció i deixa-ho com et sembli més lògic.</p></li><li><p>&nbs
	p;<strong>Joguines</strong>: No s’accepten joguines en mal estat, brutes o
	 trencades. Si us plau, no portis qualsevol cosa que trobis al carrer. La 
	botiga gratis no és un abocador ni una deixalleria 💔 Porta només jocs o jo
	guines si estan en estat òptim i veus que hi ha prou espai per a deixar-le
	s bé. (Si portes un joc que conté unes quantes peces, ha d'estar en la sev
	a caixa corresponent i ben tancada).</p><p></p></li></ul><p>★ <u>SI AGAFES
	 ROBA</u></p><ul><li><p>&nbsp;Pots endur-te la roba que vulguis, per a tu 
	o per a regalar. Prova, experimenta, diverteix-te! Això és un espai descap
	italitzat, aprofita l’oportunitat ^_^</p></li><li><p>&nbsp;No cal que deix
	is roba per endurt-te’n: Deixar roba és una invitació, no una condició.</p
	></li><li><p>&nbsp;Abans de marxar, dedica una estona a endreçar i deixar 
	més bonic l’espai. Deixem l'espai com ens agradaria trobar-lo!!! 💟</p></li
	></ul><p></p>
BEGIN:VALARM
ACTION:DISPLAY
DESCRIPTION:MERCADILLO GRATIS! Per a totes les edats, estils i gèneres :)
TRIGGER:-PT1H
END:VALARM
END:VEVENT
END:VCALENDAR
