BEGIN:VCALENDAR
VERSION:2.0
CALSCALE:GREGORIAN
PRODID:adamgibbons/ics
METHOD:PUBLISH
X-PUBLISHED-TTL:PT1H
BEGIN:VEVENT
UID:13984@bcn.convoca.la
SUMMARY:Recital poètic + micro obert
DTSTAMP:20260423T131343Z
DTSTART:20260423T110000Z
DESCRIPTION:El recital poètic amb LOS BIOLENTOS es a les 13:00h\n\ndesprés 
	micro obert
URL:https://bcn.convoca.la/event/recital-poetic-micro-obert
LOCATION:Plaça Revolució - Plaça Revolució\, Gràcia
STATUS:CONFIRMED
CATEGORIES:poesia,Gràcia,autogestió,Sant Jordi
X-ALT-DESC;FMTTYPE=text/html:<p>El recital poètic amb LOS BIOLENTOS es a le
	s 13:00h</p><p>després micro obert</p>
BEGIN:VALARM
ACTION:DISPLAY
DESCRIPTION:Recital poètic + micro obert
TRIGGER:-PT1H
END:VALARM
END:VEVENT
END:VCALENDAR
