BEGIN:VCALENDAR
VERSION:2.0
CALSCALE:GREGORIAN
PRODID:adamgibbons/ics
METHOD:PUBLISH
X-PUBLISHED-TTL:PT1H
BEGIN:VEVENT
UID:13957@bcn.convoca.la
SUMMARY:Solidaritat amb el CzechElbit10
DTSTAMP:20260421T002259Z
DTSTART:20260422T163000Z
DTEND:20260422T190000Z
DESCRIPTION:Des del 20 de març\, deu persones han estat arrestades a tot E
	uropa Central en\nrelació amb l’incendi d’unes instal·lacions propietat d
	el fabricant d’armes\ntxec LPP Holding i Elbit Systems a Pardubice\, Repú
	blica Txeca. Aquestes\npersones estan acusades de terrorisme sense proves 
	suficients i actualment estan\nempresonades en condicions dures\, a l’espe
	ra de judici sense cap indicació de\nquan podran ser alliberades.\nEl 22 
	d’Abril volem mostrar el nostre suport als companys empresonats\nil·legalm
	ent i alçar-nos en contra de la criminalització de la solidaritat amb\nP
	alestina.\nAtureu la caça de la protesta. Palestina lliure
URL:https://bcn.convoca.la/event/solidaritat-amb-el-czechelbit10
LOCATION:Carrer de Mallorca\, 272 - Carrer de Mallorca\, 272 Districte: Eix
	ample Barri: la Dreta de l'Eixample Població: Barcelona
STATUS:CONFIRMED
CATEGORIES:manifestació,PalestinaLliure,boicot israel,FreePalestine,UAB Acc
	ió per Palestina,czchelbit10
X-ALT-DESC;FMTTYPE=text/html:<p>Des del 20 de març, deu persones han estat
	 arrestades a tot Europa Central en relació amb l’incendi d’unes instal·l
	acions propietat del fabricant d’armes txec LPP Holding i Elbit Systems a 
	Pardubice, República Txeca. Aquestes persones estan acusades de terrorism
	e sense proves suficients i actualment estan empresonades en condicions du
	res, a l’espera de judici sense cap indicació de quan podran ser allibera
	des.<br>El 22 d’Abril volem mostrar el nostre suport als companys empreson
	ats il·legalment i alçar-nos en contra de la criminalització de la solid
	aritat amb Palestina.<br>Atureu la caça de la protesta. Palestina lliure<
	/p>
BEGIN:VALARM
ACTION:DISPLAY
DESCRIPTION:Solidaritat amb el CzechElbit10
TRIGGER:-PT1H
END:VALARM
END:VEVENT
END:VCALENDAR
