BEGIN:VCALENDAR
VERSION:2.0
CALSCALE:GREGORIAN
PRODID:adamgibbons/ics
METHOD:PUBLISH
X-PUBLISHED-TTL:PT1H
BEGIN:VEVENT
UID:13962@bcn.convoca.la
SUMMARY:Taller de autodefensa
DTSTAMP:20260422T105833Z
DTSTART:20260502T090000Z
DTEND:20260502T223000Z
DESCRIPTION:VUELVEN LOS TALLERES DE AUTODEFENSA!\n\nEspacio de aprendizaje 
	y cuidado colectivo donde trabajamos herramientas de\nautodefensa pensadas
	 para el día a día.\n\nInico: 2 DE MAYO\n⏰ 11:00 h\n📍 La Porvenir: C/Major
	 26\n\n👉 Para facilitar la organización y el cuidado del espacio\, pedimos
	 que\nanticipéis vuestra asistencia escribiendo a silvafausto121@yahoo.com
	\n\nNo se requiere experiencia previa ni condiciones físicas específicas.\
	nLas clases están abiertas a personas de todas las edades que quieran move
	rse con\nmás seguridad\, compartir saberes y construir autonomía desde el 
	cuerpo.\n\nA través de técnicas simples y accesibles\, se busca fortalecer
	 la confianza\, la\npresencia corporal y la capacidad de respuesta ante si
	tuaciones de violencia o\nriesgo.\nLa práctica propone reconocer la propia
	 fuerza\, desarrollar reflejos y tomar\ndecisiones con mayor claridad\, in
	tegrando cuerpo y mente.
URL:https://bcn.convoca.la/event/taller-de-autodefensa-1
GEO:2.18795;41.48578
LOCATION:La Porvenir - Carrer Major 26\, 08110 Montcada i Reixac
STATUS:CONFIRMED
CATEGORIES:taller,SantAndreu,autogestió,autodefensa,Montcada i Reixac,autod
	efensa feminista,gimnàs,La Porvenir
X-ALT-DESC;FMTTYPE=text/html:<p>VUELVEN LOS TALLERES DE AUTODEFENSA!</p><p>
	Espacio de aprendizaje y cuidado colectivo donde trabajamos herramientas d
	e autodefensa pensadas para el día a día.</p><p>Inico: 2 DE MAYO<br>⏰ 11:0
	0 h<br>📍 La Porvenir: C/Major 26</p><p>👉 Para facilitar la organización y 
	el cuidado del espacio, pedimos que anticipéis vuestra asistencia escribie
	ndo a silvafausto121@yahoo.com</p><p>No se requiere experiencia previa ni 
	condiciones físicas específicas.<br>Las clases están abiertas a personas d
	e todas las edades que quieran moverse con más seguridad, compartir sabere
	s y construir autonomía desde el cuerpo.</p><p>A través de técnicas simple
	s y accesibles, se busca fortalecer la confianza, la presencia corporal y 
	la capacidad de respuesta ante situaciones de violencia o riesgo.<br>La pr
	áctica propone reconocer la propia fuerza, desarrollar reflejos y tomar de
	cisiones con mayor claridad, integrando cuerpo y mente.</p>
BEGIN:VALARM
ACTION:DISPLAY
DESCRIPTION:Taller de autodefensa
TRIGGER:-PT1H
END:VALARM
END:VEVENT
END:VCALENDAR
