BEGIN:VCALENDAR
VERSION:2.0
CALSCALE:GREGORIAN
PRODID:adamgibbons/ics
METHOD:PUBLISH
X-PUBLISHED-TTL:PT1H
BEGIN:VEVENT
UID:13913@bcn.convoca.la
SUMMARY:Assemblees del Sindicat d'Habitatge del Raval
DTSTAMP:20260419T225252Z
DTSTART:20260423T160000Z
DTEND:20260423T180000Z
URL:https://bcn.convoca.la/event/assemblees-del-sindicat-dhabitatge-del-rav
	al-9
GEO:41.3785178;2.1665618
LOCATION:Casa de la Solidaritat - c/ Vistalegre 15\, Raval\, Barcelona
STATUS:CONFIRMED
CATEGORIES:Dret a l'habitatge,Raval,SindicatHabitatge,habitatge
END:VEVENT
END:VCALENDAR
