BEGIN:VCALENDAR
VERSION:2.0
CALSCALE:GREGORIAN
PRODID:adamgibbons/ics
METHOD:PUBLISH
X-PUBLISHED-TTL:PT1H
BEGIN:VEVENT
UID:13937@bcn.convoca.la
SUMMARY:⚠️ALERTA DESNONAMENT⚠️
DTSTAMP:20260420T190917Z
DTSTART:20260424T060000Z
DTEND:20260424T080000Z
URL:https://bcn.convoca.la/event/warningalerta-desnonamentwarning-3
LOCATION:Carrer Pau Casals\, 28\, Ripollet\; C/Sant Jaume nº9\, Ripollet\; 
	Carrer Nou\, 59\, Ripollet\; Carrer Anselm Clavé nº2\, Ripollet - Carrer P
	au Casals\, 28\, Ripollet\; C/Sant Jaume nº9\, Ripollet\; Carrer Nou\, 59\
	, Ripollet\; Carrer Anselm Clavé nº2\, Ripollet
STATUS:CONFIRMED
CATEGORIES:
END:VEVENT
END:VCALENDAR
