BEGIN:VCALENDAR
VERSION:2.0
CALSCALE:GREGORIAN
PRODID:adamgibbons/ics
METHOD:PUBLISH
X-PUBLISHED-TTL:PT1H
BEGIN:VEVENT
UID:13948@bcn.convoca.la
SUMMARY:Recollim menjar per les que cuinen per les persones del B9
DTSTAMP:20260425T185923Z
DTSTART:20260427T160000Z
DTEND:20260427T190000Z
URL:https://bcn.convoca.la/event/recollim-menjar-per-les-que-cuinen-per-les
	-persones-del-b9-9
GEO:41.4303043;2.188017
LOCATION:La Cinètika - 32\, Rambla de Fabra i Puig\, Sant Andreu\, Barcelon
	a\, 08030
STATUS:CONFIRMED
CATEGORIES:ElB9,LaCinètika,SantAndreu,SantAndreuDelPalomar,Sindicat d’Habit
	atge de Sant Andreu,SindicatHabitatge,SuportMutu,SuportVeïnsIB9,autogestió
	,menjarSolidari,recollida,recollida de menjar,suportmutu
END:VEVENT
BEGIN:VEVENT
UID:13951@bcn.convoca.la
SUMMARY:Assemblea del Sindicat d’Habitatge de Sant Andreu
DTSTAMP:20260425T185923Z
DTSTART:20260427T160000Z
DTEND:20260427T183000Z
URL:https://bcn.convoca.la/event/assemblea-del-sindicat-dhabitatge-de-sant-
	andreu-76
GEO:41.4303043;2.188017
LOCATION:La Cinètika - 32\, Rambla de Fabra i Puig\, Sant Andreu\, Barcelon
	a\, 08030
STATUS:CONFIRMED
CATEGORIES:COL·LECTIUS,Dret a l'habitatge,LaCinètika,SantAndreu,SantAndreuD
	elPalomar,Sindicat d’Habitatge de Sant Andreu,SindicatHabitatge,assemblea,
	autogestió,habitatge,okupa,okupació,sindicalisme
END:VEVENT
BEGIN:VEVENT
UID:13993@bcn.convoca.la
SUMMARY:Autrem el desnonament de l'Ani!
DTSTAMP:20260425T185923Z
DTSTART:20260428T070000Z
DTEND:20260428T133000Z
URL:https://bcn.convoca.la/event/autrem-el-desnonament-de-lani
GEO:41.4350976;2.1903885
LOCATION:Carrer d'Otger\, 11 - Carrer d'Otger\, 11\, Sant Andreu de Palomar
	\, Sant Andreu\, Barcelona\, Barcelonès\, Barcelona\, Catalunya\, 08030\, 
	España
STATUS:CONFIRMED
CATEGORIES:Bon Pastor,BonPastor,SantAndreuDelPalomar,Sindicat d’Habitatge d
	e Sant Andreu,SindicatHabitatge,desnonament
END:VEVENT
BEGIN:VEVENT
UID:13981@bcn.convoca.la
SUMMARY:assemblea setmanal: sindicat d'habitatge de nou barris
DTSTAMP:20260425T185923Z
DTSTART:20260429T153000Z
DTEND:20260429T180000Z
URL:https://bcn.convoca.la/event/assemblea-setmanal-sindicat-dhabitatge-de-
	nou-barris-16
LOCATION:casal popular tres voltes rebel - passeig d'urrutia 125
STATUS:CONFIRMED
CATEGORIES:NouBarris,SindicatHabitatge,assemblea,assembleaOberta
END:VEVENT
BEGIN:VEVENT
UID:13989@bcn.convoca.la
SUMMARY:Assemblees del Sindicat d'Habitatge del Raval
DTSTAMP:20260425T185923Z
DTSTART:20260430T160000Z
DTEND:20260430T180000Z
URL:https://bcn.convoca.la/event/assemblees-del-sindicat-dhabitatge-del-rav
	al-10
GEO:41.3785178;2.1665618
LOCATION:Casa de la Solidaritat - c/ Vistalegre 15\, Raval\, Barcelona
STATUS:CONFIRMED
CATEGORIES:Dret a l'habitatge,Raval,SindicatHabitatge,habitatge
END:VEVENT
BEGIN:VEVENT
UID:14003@bcn.convoca.la
SUMMARY:L'Habitatge\, una altra cara de la desigualitat de gènere
DTSTAMP:20260425T185923Z
DTSTART:20260509T090000Z
DTEND:20260509T113000Z
URL:https://bcn.convoca.la/event/lhabitatge-una-altra-cara-de-la-desigualit
	at-de-genere
GEO:41.4108672;2.1885084
LOCATION:Ateneu del Clot - 16\, Carrer de la Muntanya\, el Clot\, Sant Mart
	í\, Barcelona\, Barcelonès\, Barcelona\, Catalunya\, 08026\, España
STATUS:CONFIRMED
CATEGORIES:Clot,SindicatHabitatge,el Clot,habitatge,sindicat d'habitatge de
	l clot,xerrada
END:VEVENT
END:VCALENDAR
