BEGIN:VCALENDAR
VERSION:2.0
CALSCALE:GREGORIAN
PRODID:adamgibbons/ics
METHOD:PUBLISH
X-PUBLISHED-TTL:PT1H
BEGIN:VEVENT
UID:13958@bcn.convoca.la
SUMMARY:Assessoria col.lectiva especial per prorrogar els contractes de llo
	guer
DTSTAMP:20260421T012445Z
DTSTART:20260421T163000Z
DTEND:20260421T190000Z
URL:https://bcn.convoca.la/event/assessoria-collectiva-especial-per-prorrog
	ar-els-contractes-de-lloguer
GEO:41.4303043;2.188017
LOCATION:La Cinètika - 32\, Rambla de Fabra i Puig\, Sant Andreu\, Barcelon
	a\, 08030
STATUS:CONFIRMED
CATEGORIES:Assessoria habitatge,LaCinètika,SantAndreu,SantAndreuDelPalomar,
	Sindicat d’Habitatge de Sant Andreu,SindicatHabitatge,prorrogalloguers
END:VEVENT
END:VCALENDAR
