BEGIN:VCALENDAR
VERSION:2.0
CALSCALE:GREGORIAN
PRODID:adamgibbons/ics
METHOD:PUBLISH
X-PUBLISHED-TTL:PT1H
BEGIN:VEVENT
UID:14005@bcn.convoca.la
SUMMARY:La Lima comedor vegan
DTSTAMP:20260425T202058Z
DTSTART:20260502T110000Z
DTEND:20260502T133000Z
URL:https://bcn.convoca.la/event/la-lima-comedor-vegan-24
GEO:41.4059836;2.1567601
LOCATION:Ateneu Llibertari de Gràcia - 5 B2\, Carrer de l'Alzina\, Gràcia\,
	 Barcelona\, 08024
STATUS:CONFIRMED
CATEGORIES:Gràcia,autogestió,cuina vegana,vegui
END:VEVENT
END:VCALENDAR
